Workbook

Sheet Efterkalkyl
A1: Efterkalkyl
A2: Internkostnad per timme (kr): | C2: 520 | D2: ← byt till er egen (se axelareskoug.com/artiklar/internkostnad-per-timme)
A3: Gula kolumner fyller du i. Gröna räknas ut automatiskt. Rad 5 är ett påhittat exempel – skriv över den.
A4: Uppdrag | B4: Datum | C4: Kund | D4: Jobbtyp | E4: Fast pris (kr) | F4: Kalk. timmar | G4: Fakt. timmar | H4: Kalk. material (kr) | I4: Fakt. material (kr) | J4: Övrigt utfall (kr) | K4: Ackord: utbetald lönekostnad (kr) – tomt vid tidlön | L4: Kalk. kostnad | M4: Fakt. kostnad | N4: Resultat | O4: Marginal | P4: Tim-avvikelse | Q4: Material-avvikelse
A5: EX-001 | B5: 46095 | C5: Påhittad kund | D5: Laddstolpar | E5: 380000 | F5: 184 | G5: 224 | H5: 248500 | I5: 246000 | J5: 0 | L5: =IF(E5="","",F5*$C$2+H5) | M5: =IF(E5="","",IF(K5="",G5*$C$2,K5)+I5+J5) | N5: =IF(E5="","",E5-M5) | O5: =IF(OR(E5="",E5=0),"",N5/E5) | P5: =IF(OR(F5="",F5=0),"",G5/F5-1) | Q5: =IF(OR(H5="",H5=0),"",I5/H5-1)
L6: =IF(E6="","",F6*$C$2+H6) | M6: =IF(E6="","",IF(K6="",G6*$C$2,K6)+I6+J6) | N6: =IF(E6="","",E6-M6) | O6: =IF(OR(E6="",E6=0),"",N6/E6) | P6: =IF(OR(F6="",F6=0),"",G6/F6-1) | Q6: =IF(OR(H6="",H6=0),"",I6/H6-1)
L7: =IF(E7="","",F7*$C$2+H7) | M7: =IF(E7="","",IF(K7="",G7*$C$2,K7)+I7+J7) | N7: =IF(E7="","",E7-M7) | O7: =IF(OR(E7="",E7=0),"",N7/E7) | P7: =IF(OR(F7="",F7=0),"",G7/F7-1) | Q7: =IF(OR(H7="",H7=0),"",I7/H7-1)
L8: =IF(E8="","",F8*$C$2+H8) | M8: =IF(E8="","",IF(K8="",G8*$C$2,K8)+I8+J8) | N8: =IF(E8="","",E8-M8) | O8: =IF(OR(E8="",E8=0),"",N8/E8) | P8: =IF(OR(F8="",F8=0),"",G8/F8-1) | Q8: =IF(OR(H8="",H8=0),"",I8/H8-1)
L9: =IF(E9="","",F9*$C$2+H9) | M9: =IF(E9="","",IF(K9="",G9*$C$2,K9)+I9+J9) | N9: =IF(E9="","",E9-M9) | O9: =IF(OR(E9="",E9=0),"",N9/E9) | P9: =IF(OR(F9="",F9=0),"",G9/F9-1) | Q9: =IF(OR(H9="",H9=0),"",I9/H9-1)
L10: =IF(E10="","",F10*$C$2+H10) | M10: =IF(E10="","",IF(K10="",G10*$C$2,K10)+I10+J10) | N10: =IF(E10="","",E10-M10) | O10: =IF(OR(E10="",E10=0),"",N10/E10) | P10: =IF(OR(F10="",F10=0),"",G10/F10-1) | Q10: =IF(OR(H10="",H10=0),"",I10/H10-1)
L11: =IF(E11="","",F11*$C$2+H11) | M11: =IF(E11="","",IF(K11="",G11*$C$2,K11)+I11+J11) | N11: =IF(E11="","",E11-M11) | O11: =IF(OR(E11="",E11=0),"",N11/E11) | P11: =IF(OR(F11="",F11=0),"",G11/F11-1) | Q11: =IF(OR(H11="",H11=0),"",I11/H11-1)
L12: =IF(E12="","",F12*$C$2+H12) | M12: =IF(E12="","",IF(K12="",G12*$C$2,K12)+I12+J12) | N12: =IF(E12="","",E12-M12) | O12: =IF(OR(E12="",E12=0),"",N12/E12) | P12: =IF(OR(F12="",F12=0),"",G12/F12-1) | Q12: =IF(OR(H12="",H12=0),"",I12/H12-1)
L13: =IF(E13="","",F13*$C$2+H13) | M13: =IF(E13="","",IF(K13="",G13*$C$2,K13)+I13+J13) | N13: =IF(E13="","",E13-M13) | O13: =IF(OR(E13="",E13=0),"",N13/E13) | P13: =IF(OR(F13="",F13=0),"",G13/F13-1) | Q13: =IF(OR(H13="",H13=0),"",I13/H13-1)
L14: =IF(E14="","",F14*$C$2+H14) | M14: =IF(E14="","",IF(K14="",G14*$C$2,K14)+I14+J14) | N14: =IF(E14="","",E14-M14) | O14: =IF(OR(E14="",E14=0),"",N14/E14) | P14: =IF(OR(F14="",F14=0),"",G14/F14-1) | Q14: =IF(OR(H14="",H14=0),"",I14/H14-1)
L15: =IF(E15="","",F15*$C$2+H15) | M15: =IF(E15="","",IF(K15="",G15*$C$2,K15)+I15+J15) | N15: =IF(E15="","",E15-M15) | O15: =IF(OR(E15="",E15=0),"",N15/E15) | P15: =IF(OR(F15="",F15=0),"",G15/F15-1) | Q15: =IF(OR(H15="",H15=0),"",I15/H15-1)
L16: =IF(E16="","",F16*$C$2+H16) | M16: =IF(E16="","",IF(K16="",G16*$C$2,K16)+I16+J16) | N16: =IF(E16="","",E16-M16) | O16: =IF(OR(E16="",E16=0),"",N16/E16) | P16: =IF(OR(F16="",F16=0),"",G16/F16-1) | Q16: =IF(OR(H16="",H16=0),"",I16/H16-1)
L17: =IF(E17="","",F17*$C$2+H17) | M17: =IF(E17="","",IF(K17="",G17*$C$2,K17)+I17+J17) | N17: =IF(E17="","",E17-M17) | O17: =IF(OR(E17="",E17=0),"",N17/E17) | P17: =IF(OR(F17="",F17=0),"",G17/F17-1) | Q17: =IF(OR(H17="",H17=0),"",I17/H17-1)
... L304: =IF(E304="","",F304*$C$2+H304) | M304: =IF(E304="","",IF(K304="",G304*$C$2,K304)+I304+J304) | N304: =IF(E304="","",E304-M304) | O304: =IF(OR(E304="",E304=0),"",N304/E304) | P304: =IF(OR(F304="",F304=0),"",G304/F304-1) | Q304: =IF(OR(H304="",H304=0),"",I304/H304-1)

Sheet Per jobbtyp
A1: Resultat per jobbtyp
A2: Skriv era jobbtyper i kolumn A – exakt som i fliken Efterkalkyl. Resten räknas ut.
A4: Jobbtyp | B4: Antal uppdrag | C4: Omsättning | D4: Resultat | E4: Marginal | F4: Tim-avvikelse | G4: Material-avvikelse | H4: Uppdrag med förlust
A5: Laddstolpar | B5: =IF(A5="","",COUNTIFS(Efterkalkyl!$D$5:$D$304,A5,Efterkalkyl!$E$5:$E$304,"<>")) | C5: =IF(A5="","",SUMIFS(Efterkalkyl!$E$5:$E$304,Efterkalkyl!$D$5:$D$304,A5)) | D5: =IF(A5="","",SUMIFS(Efterkalkyl!$N$5:$N$304,Efterkalkyl!$D$5:$D$304,A5)) | E5: =IF(OR(A5="",C5=0),"",D5/C5) | F5: =IF(A5="","",IFERROR(SUMIFS(Efterkalkyl!$G$5:$G$304,Efterkalkyl!$D$5:$D$304,A5)/SUMIFS(Efterkalkyl!$F$5:$F$304,Efterkalkyl!$D$5:$D$304,A5)-1,"")) | G5: =IF(A5="","",IFERROR(SUMIFS(Efterkalkyl!$I$5:$I$304,Efterkalkyl!$D$5:$D$304,A5)/SUMIFS(Efterkalkyl!$H$5:$H$304,Efterkalkyl!$D$5:$D$304,A5)-1,"")) | H5: =IF(A5="","",COUNTIFS(Efterkalkyl!$D$5:$D$304,A5,Efterkalkyl!$N$5:$N$304,"<0"))
B6: =IF(A6="","",COUNTIFS(Efterkalkyl!$D$5:$D$304,A6,Efterkalkyl!$E$5:$E$304,"<>")) | C6: =IF(A6="","",SUMIFS(Efterkalkyl!$E$5:$E$304,Efterkalkyl!$D$5:$D$304,A6)) | D6: =IF(A6="","",SUMIFS(Efterkalkyl!$N$5:$N$304,Efterkalkyl!$D$5:$D$304,A6)) | E6: =IF(OR(A6="",C6=0),"",D6/C6) | F6: =IF(A6="","",IFERROR(SUMIFS(Efterkalkyl!$G$5:$G$304,Efterkalkyl!$D$5:$D$304,A6)/SUMIFS(Efterkalkyl!$F$5:$F$304,Efterkalkyl!$D$5:$D$304,A6)-1,"")) | G6: =IF(A6="","",IFERROR(SUMIFS(Efterkalkyl!$I$5:$I$304,Efterkalkyl!$D$5:$D$304,A6)/SUMIFS(Efterkalkyl!$H$5:$H$304,Efterkalkyl!$D$5:$D$304,A6)-1,"")) | H6: =IF(A6="","",COUNTIFS(Efterkalkyl!$D$5:$D$304,A6,Efterkalkyl!$N$5:$N$304,"<0"))
B7: =IF(A7="","",COUNTIFS(Efterkalkyl!$D$5:$D$304,A7,Efterkalkyl!$E$5:$E$304,"<>")) | C7: =IF(A7="","",SUMIFS(Efterkalkyl!$E$5:$E$304,Efterkalkyl!$D$5:$D$304,A7)) | D7: =IF(A7="","",SUMIFS(Efterkalkyl!$N$5:$N$304,Efterkalkyl!$D$5:$D$304,A7)) | E7: =IF(OR(A7="",C7=0),"",D7/C7) | F7: =IF(A7="","",IFERROR(SUMIFS(Efterkalkyl!$G$5:$G$304,Efterkalkyl!$D$5:$D$304,A7)/SUMIFS(Efterkalkyl!$F$5:$F$304,Efterkalkyl!$D$5:$D$304,A7)-1,"")) | G7: =IF(A7="","",IFERROR(SUMIFS(Efterkalkyl!$I$5:$I$304,Efterkalkyl!$D$5:$D$304,A7)/SUMIFS(Efterkalkyl!$H$5:$H$304,Efterkalkyl!$D$5:$D$304,A7)-1,"")) | H7: =IF(A7="","",COUNTIFS(Efterkalkyl!$D$5:$D$304,A7,Efterkalkyl!$N$5:$N$304,"<0"))
B8: =IF(A8="","",COUNTIFS(Efterkalkyl!$D$5:$D$304,A8,Efterkalkyl!$E$5:$E$304,"<>")) | C8: =IF(A8="","",SUMIFS(Efterkalkyl!$E$5:$E$304,Efterkalkyl!$D$5:$D$304,A8)) | D8: =IF(A8="","",SUMIFS(Efterkalkyl!$N$5:$N$304,Efterkalkyl!$D$5:$D$304,A8)) | E8: =IF(OR(A8="",C8=0),"",D8/C8) | F8: =IF(A8="","",IFERROR(SUMIFS(Efterkalkyl!$G$5:$G$304,Efterkalkyl!$D$5:$D$304,A8)/SUMIFS(Efterkalkyl!$F$5:$F$304,Efterkalkyl!$D$5:$D$304,A8)-1,"")) | G8: =IF(A8="","",IFERROR(SUMIFS(Efterkalkyl!$I$5:$I$304,Efterkalkyl!$D$5:$D$304,A8)/SUMIFS(Efterkalkyl!$H$5:$H$304,Efterkalkyl!$D$5:$D$304,A8)-1,"")) | H8: =IF(A8="","",COUNTIFS(Efterkalkyl!$D$5:$D$304,A8,Efterkalkyl!$N$5:$N$304,"<0"))
B9: =IF(A9="","",COUNTIFS(Efterkalkyl!$D$5:$D$304,A9,Efterkalkyl!$E$5:$E$304,"<>")) | C9: =IF(A9="","",SUMIFS(Efterkalkyl!$E$5:$E$304,Efterkalkyl!$D$5:$D$304,A9)) | D9: =IF(A9="","",SUMIFS(Efterkalkyl!$N$5:$N$304,Efterkalkyl!$D$5:$D$304,A9)) | E9: =IF(OR(A9="",C9=0),"",D9/C9) | F9: =IF(A9="","",IFERROR(SUMIFS(Efterkalkyl!$G$5:$G$304,Efterkalkyl!$D$5:$D$304,A9)/SUMIFS(Efterkalkyl!$F$5:$F$304,Efterkalkyl!$D$5:$D$304,A9)-1,"")) | G9: =IF(A9="","",IFERROR(SUMIFS(Efterkalkyl!$I$5:$I$304,Efterkalkyl!$D$5:$D$304,A9)/SUMIFS(Efterkalkyl!$H$5:$H$304,Efterkalkyl!$D$5:$D$304,A9)-1,"")) | H9: =IF(A9="","",COUNTIFS(Efterkalkyl!$D$5:$D$304,A9,Efterkalkyl!$N$5:$N$304,"<0"))
B10: =IF(A10="","",COUNTIFS(Efterkalkyl!$D$5:$D$304,A10,Efterkalkyl!$E$5:$E$304,"<>")) | C10: =IF(A10="","",SUMIFS(Efterkalkyl!$E$5:$E$304,Efterkalkyl!$D$5:$D$304,A10)) | D10: =IF(A10="","",SUMIFS(Efterkalkyl!$N$5:$N$304,Efterkalkyl!$D$5:$D$304,A10)) | E10: =IF(OR(A10="",C10=0),"",D10/C10) | F10: =IF(A10="","",IFERROR(SUMIFS(Efterkalkyl!$G$5:$G$304,Efterkalkyl!$D$5:$D$304,A10)/SUMIFS(Efterkalkyl!$F$5:$F$304,Efterkalkyl!$D$5:$D$304,A10)-1,"")) | G10: =IF(A10="","",IFERROR(SUMIFS(Efterkalkyl!$I$5:$I$304,Efterkalkyl!$D$5:$D$304,A10)/SUMIFS(Efterkalkyl!$H$5:$H$304,Efterkalkyl!$D$5:$D$304,A10)-1,"")) | H10: =IF(A10="","",COUNTIFS(Efterkalkyl!$D$5:$D$304,A10,Efterkalkyl!$N$5:$N$304,"<0"))
B11: =IF(A11="","",COUNTIFS(Efterkalkyl!$D$5:$D$304,A11,Efterkalkyl!$E$5:$E$304,"<>")) | C11: =IF(A11="","",SUMIFS(Efterkalkyl!$E$5:$E$304,Efterkalkyl!$D$5:$D$304,A11)) | D11: =IF(A11="","",SUMIFS(Efterkalkyl!$N$5:$N$304,Efterkalkyl!$D$5:$D$304,A11)) | E11: =IF(OR(A11="",C11=0),"",D11/C11) | F11: =IF(A11="","",IFERROR(SUMIFS(Efterkalkyl!$G$5:$G$304,Efterkalkyl!$D$5:$D$304,A11)/SUMIFS(Efterkalkyl!$F$5:$F$304,Efterkalkyl!$D$5:$D$304,A11)-1,"")) | G11: =IF(A11="","",IFERROR(SUMIFS(Efterkalkyl!$I$5:$I$304,Efterkalkyl!$D$5:$D$304,A11)/SUMIFS(Efterkalkyl!$H$5:$H$304,Efterkalkyl!$D$5:$D$304,A11)-1,"")) | H11: =IF(A11="","",COUNTIFS(Efterkalkyl!$D$5:$D$304,A11,Efterkalkyl!$N$5:$N$304,"<0"))
B12: =IF(A12="","",COUNTIFS(Efterkalkyl!$D$5:$D$304,A12,Efterkalkyl!$E$5:$E$304,"<>")) | C12: =IF(A12="","",SUMIFS(Efterkalkyl!$E$5:$E$304,Efterkalkyl!$D$5:$D$304,A12)) | D12: =IF(A12="","",SUMIFS(Efterkalkyl!$N$5:$N$304,Efterkalkyl!$D$5:$D$304,A12)) | E12: =IF(OR(A12="",C12=0),"",D12/C12) | F12: =IF(A12="","",IFERROR(SUMIFS(Efterkalkyl!$G$5:$G$304,Efterkalkyl!$D$5:$D$304,A12)/SUMIFS(Efterkalkyl!$F$5:$F$304,Efterkalkyl!$D$5:$D$304,A12)-1,"")) | G12: =IF(A12="","",IFERROR(SUMIFS(Efterkalkyl!$I$5:$I$304,Efterkalkyl!$D$5:$D$304,A12)/SUMIFS(Efterkalkyl!$H$5:$H$304,Efterkalkyl!$D$5:$D$304,A12)-1,"")) | H12: =IF(A12="","",COUNTIFS(Efterkalkyl!$D$5:$D$304,A12,Efterkalkyl!$N$5:$N$304,"<0"))
B13: =IF(A13="","",COUNTIFS(Efterkalkyl!$D$5:$D$304,A13,Efterkalkyl!$E$5:$E$304,"<>")) | C13: =IF(A13="","",SUMIFS(Efterkalkyl!$E$5:$E$304,Efterkalkyl!$D$5:$D$304,A13)) | D13: =IF(A13="","",SUMIFS(Efterkalkyl!$N$5:$N$304,Efterkalkyl!$D$5:$D$304,A13)) | E13: =IF(OR(A13="",C13=0),"",D13/C13) | F13: =IF(A13="","",IFERROR(SUMIFS(Efterkalkyl!$G$5:$G$304,Efterkalkyl!$D$5:$D$304,A13)/SUMIFS(Efterkalkyl!$F$5:$F$304,Efterkalkyl!$D$5:$D$304,A13)-1,"")) | G13: =IF(A13="","",IFERROR(SUMIFS(Efterkalkyl!$I$5:$I$304,Efterkalkyl!$D$5:$D$304,A13)/SUMIFS(Efterkalkyl!$H$5:$H$304,Efterkalkyl!$D$5:$D$304,A13)-1,"")) | H13: =IF(A13="","",COUNTIFS(Efterkalkyl!$D$5:$D$304,A13,Efterkalkyl!$N$5:$N$304,"<0"))
B14: =IF(A14="","",COUNTIFS(Efterkalkyl!$D$5:$D$304,A14,Efterkalkyl!$E$5:$E$304,"<>")) | C14: =IF(A14="","",SUMIFS(Efterkalkyl!$E$5:$E$304,Efterkalkyl!$D$5:$D$304,A14)) | D14: =IF(A14="","",SUMIFS(Efterkalkyl!$N$5:$N$304,Efterkalkyl!$D$5:$D$304,A14)) | E14: =IF(OR(A14="",C14=0),"",D14/C14) | F14: =IF(A14="","",IFERROR(SUMIFS(Efterkalkyl!$G$5:$G$304,Efterkalkyl!$D$5:$D$304,A14)/SUMIFS(Efterkalkyl!$F$5:$F$304,Efterkalkyl!$D$5:$D$304,A14)-1,"")) | G14: =IF(A14="","",IFERROR(SUMIFS(Efterkalkyl!$I$5:$I$304,Efterkalkyl!$D$5:$D$304,A14)/SUMIFS(Efterkalkyl!$H$5:$H$304,Efterkalkyl!$D$5:$D$304,A14)-1,"")) | H14: =IF(A14="","",COUNTIFS(Efterkalkyl!$D$5:$D$304,A14,Efterkalkyl!$N$5:$N$304,"<0"))
B15: =IF(A15="","",COUNTIFS(Efterkalkyl!$D$5:$D$304,A15,Efterkalkyl!$E$5:$E$304,"<>")) | C15: =IF(A15="","",SUMIFS(Efterkalkyl!$E$5:$E$304,Efterkalkyl!$D$5:$D$304,A15)) | D15: =IF(A15="","",SUMIFS(Efterkalkyl!$N$5:$N$304,Efterkalkyl!$D$5:$D$304,A15)) | E15: =IF(OR(A15="",C15=0),"",D15/C15) | F15: =IF(A15="","",IFERROR(SUMIFS(Efterkalkyl!$G$5:$G$304,Efterkalkyl!$D$5:$D$304,A15)/SUMIFS(Efterkalkyl!$F$5:$F$304,Efterkalkyl!$D$5:$D$304,A15)-1,"")) | G15: =IF(A15="","",IFERROR(SUMIFS(Efterkalkyl!$I$5:$I$304,Efterkalkyl!$D$5:$D$304,A15)/SUMIFS(Efterkalkyl!$H$5:$H$304,Efterkalkyl!$D$5:$D$304,A15)-1,"")) | H15: =IF(A15="","",COUNTIFS(Efterkalkyl!$D$5:$D$304,A15,Efterkalkyl!$N$5:$N$304,"<0"))
B16: =IF(A16="","",COUNTIFS(Efterkalkyl!$D$5:$D$304,A16,Efterkalkyl!$E$5:$E$304,"<>")) | C16: =IF(A16="","",SUMIFS(Efterkalkyl!$E$5:$E$304,Efterkalkyl!$D$5:$D$304,A16)) | D16: =IF(A16="","",SUMIFS(Efterkalkyl!$N$5:$N$304,Efterkalkyl!$D$5:$D$304,A16)) | E16: =IF(OR(A16="",C16=0),"",D16/C16) | F16: =IF(A16="","",IFERROR(SUMIFS(Efterkalkyl!$G$5:$G$304,Efterkalkyl!$D$5:$D$304,A16)/SUMIFS(Efterkalkyl!$F$5:$F$304,Efterkalkyl!$D$5:$D$304,A16)-1,"")) | G16: =IF(A16="","",IFERROR(SUMIFS(Efterkalkyl!$I$5:$I$304,Efterkalkyl!$D$5:$D$304,A16)/SUMIFS(Efterkalkyl!$H$5:$H$304,Efterkalkyl!$D$5:$D$304,A16)-1,"")) | H16: =IF(A16="","",COUNTIFS(Efterkalkyl!$D$5:$D$304,A16,Efterkalkyl!$N$5:$N$304,"<0"))
B17: =IF(A17="","",COUNTIFS(Efterkalkyl!$D$5:$D$304,A17,Efterkalkyl!$E$5:$E$304,"<>")) | C17: =IF(A17="","",SUMIFS(Efterkalkyl!$E$5:$E$304,Efterkalkyl!$D$5:$D$304,A17)) | D17: =IF(A17="","",SUMIFS(Efterkalkyl!$N$5:$N$304,Efterkalkyl!$D$5:$D$304,A17)) | E17: =IF(OR(A17="",C17=0),"",D17/C17) | F17: =IF(A17="","",IFERROR(SUMIFS(Efterkalkyl!$G$5:$G$304,Efterkalkyl!$D$5:$D$304,A17)/SUMIFS(Efterkalkyl!$F$5:$F$304,Efterkalkyl!$D$5:$D$304,A17)-1,"")) | G17: =IF(A17="","",IFERROR(SUMIFS(Efterkalkyl!$I$5:$I$304,Efterkalkyl!$D$5:$D$304,A17)/SUMIFS(Efterkalkyl!$H$5:$H$304,Efterkalkyl!$D$5:$D$304,A17)-1,"")) | H17: =IF(A17="","",COUNTIFS(Efterkalkyl!$D$5:$D$304,A17,Efterkalkyl!$N$5:$N$304,"<0"))
... B24: =IF(A24="","",COUNTIFS(Efterkalkyl!$D$5:$D$304,A24,Efterkalkyl!$E$5:$E$304,"<>")) | C24: =IF(A24="","",SUMIFS(Efterkalkyl!$E$5:$E$304,Efterkalkyl!$D$5:$D$304,A24)) | D24: =IF(A24="","",SUMIFS(Efterkalkyl!$N$5:$N$304,Efterkalkyl!$D$5:$D$304,A24)) | E24: =IF(OR(A24="",C24=0),"",D24/C24) | F24: =IF(A24="","",IFERROR(SUMIFS(Efterkalkyl!$G$5:$G$304,Efterkalkyl!$D$5:$D$304,A24)/SUMIFS(Efterkalkyl!$F$5:$F$304,Efterkalkyl!$D$5:$D$304,A24)-1,"")) | G24: =IF(A24="","",IFERROR(SUMIFS(Efterkalkyl!$I$5:$I$304,Efterkalkyl!$D$5:$D$304,A24)/SUMIFS(Efterkalkyl!$H$5:$H$304,Efterkalkyl!$D$5:$D$304,A24)-1,"")) | H24: =IF(A24="","",COUNTIFS(Efterkalkyl!$D$5:$D$304,A24,Efterkalkyl!$N$5:$N$304,"<0"))

Sheet Så använder du mallen
A1: Efterkalkyl – så använder du mallen
A2: 1. Skriv er internkostnad per timme i cell C2 på fliken Efterkalkyl. Den ska vara vad en arbetad timme kostar företaget – inte timpriset mot kund.
A3: 2. Lägg in en rad per avslutat uppdrag: kalkylerade och faktiska timmar, kalkylerat och faktiskt material, och övriga kostnader (underentreprenörer, hyrmaskiner, resor).
A4: 3. Håll ÄTA-arbeten isär från det kalkylerade jobbet – annars ser uppdraget sämre eller bättre ut än det var.
A5: Jobbar ni på ackord? Fyll i den utbetalda lönekostnaden för uppdraget (ackordslön plus arbetsgivaravgifter och andra personalkostnader) i kolumnen för ackord. Då används den i stället för faktiska timmar × internkostnad. Lämna kolumnen tom för jobb på tidlön.
A6: 4. Kolumnerna Resultat, Marginal och avvikelserna räknas ut automatiskt.
A7: 5. På fliken Per jobbtyp skriver du era jobbtyper – där syns mönstren: vilka typer av jobb som drar över i timmar eller material.
A8: 6. Justera nästa kalkyl för de jobbtyper som drar över.
A10: Exemplet på rad 5 är påhittat. Skriv över eller radera det.
A11: Steg för steg med räkneexempel: axelareskoug.com/artiklar/efterkalkyl-elforetag
A12: Vill ni att efterkalkylen görs automatiskt? Axel Areskoug, 070-338 83 59, axel.areskoug@icloud.com
